Package: RUCova Version: 1.1.0 Command: rm -rf RUCova.buildbin-libdir && mkdir RUCova.buildbin-libdir && /Users/biocbuild/BBS/utils/build-universal.sh RUCova_1.1.0.tar.gz /Library/Frameworks/R.framework/Resources/bin/R RUCova.buildbin-libdir StartedAt: 2025-10-14 23:36:38 -0400 (Tue, 14 Oct 2025) EndedAt: 2025-10-14 23:36:50 -0400 (Tue, 14 Oct 2025) EllapsedTime: 12.3 seconds RetCode: 0 Status: OK PackageFile: RUCova_1.1.0.tgz PackageFileSize: 5.403 MiB