Package: RTopper Version: 1.57.0 Command: /home/biocbuild/bbs-3.23-bioc/R/bin/R CMD INSTALL RTopper StartedAt: 2025-11-03 15:12:56 -0500 (Mon, 03 Nov 2025) EndedAt: 2025-11-03 15:13:02 -0500 (Mon, 03 Nov 2025) EllapsedTime: 6.3 seconds RetCode: 0 Status: OK