Package: RTopper Version: 1.57.0 Command: /home/biocbuild/bbs-3.23-bioc/R/bin/R CMD build --keep-empty-dirs --no-resave-data RTopper StartedAt: 2025-11-02 19:38:59 -0500 (Sun, 02 Nov 2025) EndedAt: 2025-11-02 19:39:59 -0500 (Sun, 02 Nov 2025) EllapsedTime: 60.0 seconds RetCode: 0 Status: OK PackageFile: RTopper_1.57.0.tar.gz PackageFileSize: 1.348 MiB