Package: RTopper Version: 1.55.0 Command: /Library/Frameworks/R.framework/Resources/bin/R CMD INSTALL RTopper StartedAt: 2025-09-30 15:14:56 -0400 (Tue, 30 Sep 2025) EndedAt: 2025-09-30 15:15:11 -0400 (Tue, 30 Sep 2025) EllapsedTime: 14.8 seconds RetCode: 0 Status: OK