Package: RTopper Version: 1.55.0 Command: /Library/Frameworks/R.framework/Resources/bin/R CMD build --keep-empty-dirs --no-resave-data RTopper StartedAt: 2025-09-30 18:35:21 -0400 (Tue, 30 Sep 2025) EndedAt: 2025-09-30 18:36:41 -0400 (Tue, 30 Sep 2025) EllapsedTime: 80.0 seconds RetCode: 0 Status: OK PackageFile: RTopper_1.55.0.tar.gz PackageFileSize: 1.348 MiB