Package: RTNsurvival Version: 1.35.0 Command: /home/biocbuild/bbs-3.23-bioc/R/bin/R CMD INSTALL RTNsurvival StartedAt: 2025-11-21 15:24:07 -0500 (Fri, 21 Nov 2025) EndedAt: 2025-11-21 15:24:40 -0500 (Fri, 21 Nov 2025) EllapsedTime: 32.1 seconds RetCode: 0 Status: OK