Package: RTNsurvival Version: 1.35.0 Command: /Library/Frameworks/R.framework/Resources/bin/R CMD INSTALL RTNsurvival StartedAt: 2025-11-21 15:29:35 -0500 (Fri, 21 Nov 2025) EndedAt: 2025-11-21 15:30:20 -0500 (Fri, 21 Nov 2025) EllapsedTime: 44.9 seconds RetCode: 0 Status: OK