Package: RTNsurvival Version: 1.35.0 Command: /Library/Frameworks/R.framework/Resources/bin/R CMD build --keep-empty-dirs --no-resave-data RTNsurvival StartedAt: 2025-11-21 18:29:12 -0500 (Fri, 21 Nov 2025) EndedAt: 2025-11-21 18:30:10 -0500 (Fri, 21 Nov 2025) EllapsedTime: 58.5 seconds RetCode: 0 Status: OK PackageFile: RTNsurvival_1.35.0.tar.gz PackageFileSize: 735.3 KiB