Package: RTNsurvival Version: 1.33.1 Command: /Library/Frameworks/R.framework/Resources/bin/R CMD INSTALL RTNsurvival StartedAt: 2025-10-26 15:12:22 -0400 (Sun, 26 Oct 2025) EndedAt: 2025-10-26 15:12:36 -0400 (Sun, 26 Oct 2025) EllapsedTime: 13.8 seconds RetCode: 0 Status: OK