Package: RTNsurvival Version: 1.33.1 Command: /Library/Frameworks/R.framework/Resources/bin/R CMD build --keep-empty-dirs --no-resave-data RTNsurvival StartedAt: 2025-10-27 17:33:51 -0400 (Mon, 27 Oct 2025) EndedAt: 2025-10-27 17:34:12 -0400 (Mon, 27 Oct 2025) EllapsedTime: 20.2 seconds RetCode: 0 Status: OK PackageFile: RTNsurvival_1.33.1.tar.gz PackageFileSize: 735.6 KiB