Package: RTNsurvival Version: 1.33.1 Command: rm -rf RTNsurvival.buildbin-libdir && mkdir RTNsurvival.buildbin-libdir && /Users/biocbuild/BBS/utils/build-universal.sh RTNsurvival_1.33.1.tar.gz /Library/Frameworks/R.framework/Resources/bin/R RTNsurvival.buildbin-libdir StartedAt: 2025-10-26 22:46:53 -0400 (Sun, 26 Oct 2025) EndedAt: 2025-10-26 22:47:06 -0400 (Sun, 26 Oct 2025) EllapsedTime: 13.3 seconds RetCode: 0 Status: OK PackageFile: RTNsurvival_1.33.1.tgz PackageFileSize: 967.8 KiB