Package: RTNduals Version: 1.35.0 Command: /home/biocbuild/bbs-3.23-bioc/R/bin/R CMD INSTALL RTNduals StartedAt: 2025-11-20 15:22:30 -0500 (Thu, 20 Nov 2025) EndedAt: 2025-11-20 15:23:00 -0500 (Thu, 20 Nov 2025) EllapsedTime: 30.3 seconds RetCode: 0 Status: OK