Package: RTNduals Version: 1.35.0 Command: /home/biocbuild/bbs-3.23-bioc/R/bin/R CMD build --keep-empty-dirs --no-resave-data RTNduals StartedAt: 2025-11-20 19:44:16 -0500 (Thu, 20 Nov 2025) EndedAt: 2025-11-20 19:45:31 -0500 (Thu, 20 Nov 2025) EllapsedTime: 75.1 seconds RetCode: 0 Status: OK PackageFile: RTNduals_1.35.0.tar.gz PackageFileSize: 584.4 KiB