Package: RTNduals Version: 1.33.0 Command: /Library/Frameworks/R.framework/Resources/bin/R CMD INSTALL RTNduals StartedAt: 2025-10-28 15:26:09 -0400 (Tue, 28 Oct 2025) EndedAt: 2025-10-28 15:26:51 -0400 (Tue, 28 Oct 2025) EllapsedTime: 41.8 seconds RetCode: 0 Status: OK