Package: RTNduals Version: 1.33.0 Command: /Library/Frameworks/R.framework/Resources/bin/R CMD build --keep-empty-dirs --no-resave-data RTNduals StartedAt: 2025-10-27 18:27:08 -0400 (Mon, 27 Oct 2025) EndedAt: 2025-10-27 18:28:42 -0400 (Mon, 27 Oct 2025) EllapsedTime: 93.8 seconds RetCode: 0 Status: OK PackageFile: RTNduals_1.33.0.tar.gz PackageFileSize: 584.3 KiB