Package: RTNduals Version: 1.33.0 Command: /Library/Frameworks/R.framework/Resources/bin/R CMD INSTALL RTNduals StartedAt: 2025-10-13 15:15:14 -0400 (Mon, 13 Oct 2025) EndedAt: 2025-10-13 15:15:26 -0400 (Mon, 13 Oct 2025) EllapsedTime: 12.4 seconds RetCode: 0 Status: OK