Package: RTN Version: 2.35.0 Command: /home/biocbuild/bbs-3.23-bioc/R/bin/R CMD INSTALL RTN StartedAt: 2025-11-20 15:17:26 -0500 (Thu, 20 Nov 2025) EndedAt: 2025-11-20 15:18:04 -0500 (Thu, 20 Nov 2025) EllapsedTime: 38.0 seconds RetCode: 0 Status: OK