Package: RTN Version: 2.35.0 Command: /home/biocbuild/bbs-3.23-bioc/R/bin/R CMD build --keep-empty-dirs --no-resave-data RTN StartedAt: 2025-11-20 19:44:15 -0500 (Thu, 20 Nov 2025) EndedAt: 2025-11-20 19:46:32 -0500 (Thu, 20 Nov 2025) EllapsedTime: 137.2 seconds RetCode: 0 Status: OK PackageFile: RTN_2.35.0.tar.gz PackageFileSize: 10.26 MiB