Package: RTN Version: 2.35.0 Command: /Library/Frameworks/R.framework/Resources/bin/R CMD INSTALL RTN StartedAt: 2025-11-21 15:24:23 -0500 (Fri, 21 Nov 2025) EndedAt: 2025-11-21 15:25:18 -0500 (Fri, 21 Nov 2025) EllapsedTime: 54.8 seconds RetCode: 0 Status: OK