Package: RTN Version: 2.35.0 Command: /Library/Frameworks/R.framework/Resources/bin/R CMD build --keep-empty-dirs --no-resave-data RTN StartedAt: 2025-11-21 18:29:06 -0500 (Fri, 21 Nov 2025) EndedAt: 2025-11-21 18:31:54 -0500 (Fri, 21 Nov 2025) EllapsedTime: 168.5 seconds RetCode: 0 Status: OK PackageFile: RTN_2.35.0.tar.gz PackageFileSize: 10.26 MiB