Package: RTN Version: 2.35.0 Command: rm -rf RTN.buildbin-libdir && mkdir RTN.buildbin-libdir && /Users/biocbuild/BBS/utils/build-universal.sh RTN_2.35.0.tar.gz /Library/Frameworks/R.framework/Resources/bin/R RTN.buildbin-libdir StartedAt: 2025-11-22 01:54:37 -0500 (Sat, 22 Nov 2025) EndedAt: 2025-11-22 01:55:35 -0500 (Sat, 22 Nov 2025) EllapsedTime: 57.9 seconds RetCode: 0 Status: OK PackageFile: RTN_2.35.0.tgz PackageFileSize: 10.2 MiB