Package: RTN Version: 2.33.0 Command: /Library/Frameworks/R.framework/Resources/bin/R CMD INSTALL RTN StartedAt: 2025-10-28 15:11:47 -0400 (Tue, 28 Oct 2025) EndedAt: 2025-10-28 15:12:01 -0400 (Tue, 28 Oct 2025) EllapsedTime: 14.4 seconds RetCode: 0 Status: OK