Package: RTN Version: 2.33.0 Command: /Library/Frameworks/R.framework/Resources/bin/R CMD build --keep-empty-dirs --no-resave-data RTN StartedAt: 2025-10-28 17:33:51 -0400 (Tue, 28 Oct 2025) EndedAt: 2025-10-28 17:34:59 -0400 (Tue, 28 Oct 2025) EllapsedTime: 67.8 seconds RetCode: 0 Status: OK PackageFile: RTN_2.33.0.tar.gz PackageFileSize: 10.26 MiB