Package: RTCGAToolbox Version: 2.39.1 Command: /Library/Frameworks/R.framework/Resources/bin/R CMD check --install=check:RTCGAToolbox.install-out.txt --library=/Library/Frameworks/R.framework/Resources/library --no-vignettes --timings RTCGAToolbox_2.39.1.tar.gz StartedAt: 2025-10-21 01:21:02 -0400 (Tue, 21 Oct 2025) EndedAt: 2025-10-21 01:24:50 -0400 (Tue, 21 Oct 2025) EllapsedTime: 227.5 seconds RetCode: 0 Status: OK CheckDir: RTCGAToolbox.Rcheck Warnings: 0