Package: RTCGAToolbox Version: 2.39.1 Command: /Library/Frameworks/R.framework/Resources/bin/R CMD check --install=check:RTCGAToolbox.install-out.txt --library=/Library/Frameworks/R.framework/Resources/library --no-vignettes --timings RTCGAToolbox_2.39.1.tar.gz StartedAt: 2025-10-03 21:26:57 -0400 (Fri, 03 Oct 2025) EndedAt: 2025-10-03 21:28:16 -0400 (Fri, 03 Oct 2025) EllapsedTime: 79.1 seconds RetCode: 0 Status: OK CheckDir: RTCGAToolbox.Rcheck Warnings: 0