Package: RTCGA Version: 1.41.0 Command: /home/biocbuild/bbs-3.23-bioc/R/bin/R CMD INSTALL RTCGA StartedAt: 2025-11-03 15:10:48 -0500 (Mon, 03 Nov 2025) EndedAt: 2025-11-03 15:10:58 -0500 (Mon, 03 Nov 2025) EllapsedTime: 10.4 seconds RetCode: 0 Status: OK