Package: RTCGA Version: 1.41.0 Command: /home/biocbuild/bbs-3.23-bioc/R/bin/R CMD check --install=check:RTCGA.install-out.txt --library=/home/biocbuild/bbs-3.23-bioc/R/site-library --timings RTCGA_1.41.0.tar.gz StartedAt: 2025-11-07 03:10:15 -0500 (Fri, 07 Nov 2025) EndedAt: 2025-11-07 03:12:48 -0500 (Fri, 07 Nov 2025) EllapsedTime: 152.3 seconds RetCode: 0 Status: OK CheckDir: RTCGA.Rcheck Warnings: 0