Package: RTCGA Version: 1.41.0 Command: /home/biocbuild/bbs-3.23-bioc/R/bin/R CMD build --keep-empty-dirs --no-resave-data RTCGA StartedAt: 2025-11-03 19:35:36 -0500 (Mon, 03 Nov 2025) EndedAt: 2025-11-03 19:35:50 -0500 (Mon, 03 Nov 2025) EllapsedTime: 14.0 seconds RetCode: 0 Status: OK PackageFile: RTCGA_1.41.0.tar.gz PackageFileSize: 2.437 MiB