Package: RTCA Version: 1.61.0 Command: /home/biocbuild/R/R/bin/R CMD INSTALL RTCA StartedAt: 2025-09-29 20:43:41 -0000 (Mon, 29 Sep 2025) EndedAt: 2025-09-29 20:43:47 -0000 (Mon, 29 Sep 2025) EllapsedTime: 6.4 seconds RetCode: 0 Status: OK