Package: RTCA Version: 1.61.0 Command: /home/biocbuild/R/R/bin/R CMD build --keep-empty-dirs --no-resave-data RTCA StartedAt: 2025-09-30 02:51:28 -0000 (Tue, 30 Sep 2025) EndedAt: 2025-09-30 02:51:41 -0000 (Tue, 30 Sep 2025) EllapsedTime: 13.0 seconds RetCode: 0 Status: OK PackageFile: RTCA_1.61.0.tar.gz PackageFileSize: 330 KiB