Package: RTCA Version: 1.61.0 Command: rm -rf RTCA.buildbin-libdir && mkdir RTCA.buildbin-libdir && F:\biocbuild\bbs-3.22-bioc\R\bin\R.exe CMD INSTALL --build --library=RTCA.buildbin-libdir RTCA_1.61.0.tar.gz StartedAt: 2025-08-15 11:11:31 -0400 (Fri, 15 Aug 2025) EndedAt: 2025-08-15 11:12:07 -0400 (Fri, 15 Aug 2025) EllapsedTime: 35.5 seconds RetCode: 0 Status: OK PackageFile: RTCA_1.61.0.zip PackageFileSize: 595.5 KiB