Package: RTCA Version: 1.63.0 Command: /home/biocbuild/bbs-3.23-bioc/R/bin/R CMD INSTALL RTCA StartedAt: 2025-10-31 15:20:06 -0400 (Fri, 31 Oct 2025) EndedAt: 2025-10-31 15:20:10 -0400 (Fri, 31 Oct 2025) EllapsedTime: 4.6 seconds RetCode: 0 Status: OK