Package: RTCA Version: 1.63.0 Command: /home/biocbuild/bbs-3.23-bioc/R/bin/R CMD check --install=check:RTCA.install-out.txt --library=/home/biocbuild/bbs-3.23-bioc/R/site-library --timings RTCA_1.63.0.tar.gz StartedAt: 2025-11-01 03:04:35 -0400 (Sat, 01 Nov 2025) EndedAt: 2025-11-01 03:05:12 -0400 (Sat, 01 Nov 2025) EllapsedTime: 37.0 seconds RetCode: 0 Status: WARNINGS CheckDir: RTCA.Rcheck Warnings: 1