Package: RSeqAn Version: 1.31.0 Command: /home/biocbuild/bbs-3.23-bioc/R/bin/R CMD build --keep-empty-dirs --no-resave-data RSeqAn StartedAt: 2025-10-31 19:53:11 -0400 (Fri, 31 Oct 2025) EndedAt: 2025-10-31 19:53:27 -0400 (Fri, 31 Oct 2025) EllapsedTime: 16.0 seconds RetCode: 0 Status: OK PackageFile: RSeqAn_1.31.0.tar.gz PackageFileSize: 1.62 MiB