Package: RSeqAn Version: 1.29.0 Command: rm -rf RSeqAn.buildbin-libdir && mkdir RSeqAn.buildbin-libdir && /Users/biocbuild/BBS/utils/build-universal.sh RSeqAn_1.29.0.tar.gz /Library/Frameworks/R.framework/Resources/bin/R RSeqAn.buildbin-libdir StartedAt: 2025-10-13 02:53:47 -0400 (Mon, 13 Oct 2025) EndedAt: 2025-10-13 02:54:11 -0400 (Mon, 13 Oct 2025) EllapsedTime: 24.2 seconds RetCode: 0 Status: OK PackageFile: RSeqAn_1.29.0.tgz PackageFileSize: 1.715 MiB