Package: RSVSim Version: 1.51.0 Command: /home/biocbuild/bbs-3.23-bioc/R/bin/R CMD INSTALL RSVSim StartedAt: 2025-11-04 15:50:31 -0500 (Tue, 04 Nov 2025) EndedAt: 2025-11-04 15:51:02 -0500 (Tue, 04 Nov 2025) EllapsedTime: 31.1 seconds RetCode: 0 Status: OK