Package: RSVSim Version: 1.51.0 Command: /home/biocbuild/bbs-3.23-bioc/R/bin/R CMD build --keep-empty-dirs --no-resave-data RSVSim StartedAt: 2025-11-04 19:38:17 -0500 (Tue, 04 Nov 2025) EndedAt: 2025-11-04 19:39:08 -0500 (Tue, 04 Nov 2025) EllapsedTime: 51.0 seconds RetCode: 0 Status: OK PackageFile: RSVSim_1.51.0.tar.gz PackageFileSize: 505 KiB