Package: RSVSim Version: 1.49.0 Command: /Library/Frameworks/R.framework/Resources/bin/R CMD INSTALL RSVSim StartedAt: 2025-10-10 15:49:24 -0400 (Fri, 10 Oct 2025) EndedAt: 2025-10-10 15:50:08 -0400 (Fri, 10 Oct 2025) EllapsedTime: 43.6 seconds RetCode: 0 Status: OK