Package: RSVSim Version: 1.49.0 Command: /Library/Frameworks/R.framework/Resources/bin/R CMD build --keep-empty-dirs --no-resave-data RSVSim StartedAt: 2025-10-12 18:59:13 -0400 (Sun, 12 Oct 2025) EndedAt: 2025-10-12 19:00:28 -0400 (Sun, 12 Oct 2025) EllapsedTime: 75.6 seconds RetCode: 0 Status: OK PackageFile: RSVSim_1.49.0.tar.gz PackageFileSize: 502.9 KiB