Package: RSVSim Version: 1.49.0 Command: rm -rf RSVSim.buildbin-libdir && mkdir RSVSim.buildbin-libdir && /Users/biocbuild/BBS/utils/build-universal.sh RSVSim_1.49.0.tar.gz /Library/Frameworks/R.framework/Resources/bin/R RSVSim.buildbin-libdir StartedAt: 2025-10-13 02:53:48 -0400 (Mon, 13 Oct 2025) EndedAt: 2025-10-13 02:54:35 -0400 (Mon, 13 Oct 2025) EllapsedTime: 47.2 seconds RetCode: 0 Status: OK PackageFile: RSVSim_1.49.0.tgz PackageFileSize: 611.7 KiB