Package: RRHO Version: 1.51.0 Command: /home/biocbuild/bbs-3.23-bioc/R/bin/R CMD INSTALL RRHO StartedAt: 2025-10-31 15:12:16 -0400 (Fri, 31 Oct 2025) EndedAt: 2025-10-31 15:12:32 -0400 (Fri, 31 Oct 2025) EllapsedTime: 16.7 seconds RetCode: 0 Status: OK