Package: RRHO Version: 1.51.0 Command: /home/biocbuild/bbs-3.23-bioc/R/bin/R CMD build --keep-empty-dirs --no-resave-data RRHO StartedAt: 2025-11-02 19:37:55 -0500 (Sun, 02 Nov 2025) EndedAt: 2025-11-02 19:38:02 -0500 (Sun, 02 Nov 2025) EllapsedTime: 7.0 seconds RetCode: 0 Status: OK PackageFile: RRHO_1.51.0.tar.gz PackageFileSize: 716.3 KiB