Package: RRHO Version: 1.51.0 Command: /Library/Frameworks/R.framework/Resources/bin/R CMD INSTALL RRHO StartedAt: 2025-11-23 15:16:47 -0500 (Sun, 23 Nov 2025) EndedAt: 2025-11-23 15:17:27 -0500 (Sun, 23 Nov 2025) EllapsedTime: 40.8 seconds RetCode: 0 Status: OK