Package: RRHO Version: 1.51.0 Command: /Library/Frameworks/R.framework/Resources/bin/R CMD build --keep-empty-dirs --no-resave-data RRHO StartedAt: 2025-11-23 18:33:27 -0500 (Sun, 23 Nov 2025) EndedAt: 2025-11-23 18:33:40 -0500 (Sun, 23 Nov 2025) EllapsedTime: 13.7 seconds RetCode: 0 Status: OK PackageFile: RRHO_1.51.0.tar.gz PackageFileSize: 715.9 KiB