Package: RRHO Version: 1.51.0 Command: rm -rf RRHO.buildbin-libdir && mkdir RRHO.buildbin-libdir && /Users/biocbuild/BBS/utils/build-universal.sh RRHO_1.51.0.tar.gz /Library/Frameworks/R.framework/Resources/bin/R RRHO.buildbin-libdir StartedAt: 2025-11-24 01:56:02 -0500 (Mon, 24 Nov 2025) EndedAt: 2025-11-24 01:56:10 -0500 (Mon, 24 Nov 2025) EllapsedTime: 8.1 seconds RetCode: 0 Status: OK PackageFile: RRHO_1.51.0.tgz PackageFileSize: 748.4 KiB