Package: RRHO Version: 1.51.0 Command: /Library/Frameworks/R.framework/Resources/bin/R CMD INSTALL RRHO StartedAt: 2025-11-20 15:02:29 -0500 (Thu, 20 Nov 2025) EndedAt: 2025-11-20 15:02:37 -0500 (Thu, 20 Nov 2025) EllapsedTime: 8.9 seconds RetCode: 0 Status: OK