Package: RRHO Version: 1.51.0 Command: /Library/Frameworks/R.framework/Resources/bin/R CMD build --keep-empty-dirs --no-resave-data RRHO StartedAt: 2025-11-20 17:31:06 -0500 (Thu, 20 Nov 2025) EndedAt: 2025-11-20 17:31:10 -0500 (Thu, 20 Nov 2025) EllapsedTime: 4.1 seconds RetCode: 0 Status: OK PackageFile: RRHO_1.51.0.tar.gz PackageFileSize: 716.7 KiB