Package: RProtoBufLib Version: 2.23.0 Command: /home/biocbuild/bbs-3.23-bioc/R/bin/R CMD INSTALL RProtoBufLib StartedAt: 2025-10-31 15:10:49 -0400 (Fri, 31 Oct 2025) EndedAt: 2025-10-31 15:15:30 -0400 (Fri, 31 Oct 2025) EllapsedTime: 280.3 seconds RetCode: 0 Status: OK