Package: RProtoBufLib Version: 2.23.0 Command: /home/biocbuild/bbs-3.23-bioc/R/bin/R CMD build --keep-empty-dirs --no-resave-data RProtoBufLib StartedAt: 2025-10-31 19:52:30 -0400 (Fri, 31 Oct 2025) EndedAt: 2025-10-31 19:57:06 -0400 (Fri, 31 Oct 2025) EllapsedTime: 276.3 seconds RetCode: 0 Status: OK PackageFile: RProtoBufLib_2.23.0.tar.gz PackageFileSize: 2.84 MiB