Package: RPA Version: 1.67.0 Command: /home/biocbuild/bbs-3.23-bioc/R/bin/R CMD INSTALL RPA StartedAt: 2025-11-03 15:17:12 -0500 (Mon, 03 Nov 2025) EndedAt: 2025-11-03 15:17:32 -0500 (Mon, 03 Nov 2025) EllapsedTime: 20.6 seconds RetCode: 0 Status: OK